BEGIN:VCALENDAR
VERSION:2.0
PRODID:-//Kansas Honor Flight - ECPv6.15.20//NONSGML v1.0//EN
CALSCALE:GREGORIAN
METHOD:PUBLISH
X-WR-CALNAME:Kansas Honor Flight
X-ORIGINAL-URL:https://kansashonorflight.org
X-WR-CALDESC:Events for Kansas Honor Flight
REFRESH-INTERVAL;VALUE=DURATION:PT1H
X-Robots-Tag:noindex
X-PUBLISHED-TTL:PT1H
BEGIN:VTIMEZONE
TZID:America/Chicago
BEGIN:DAYLIGHT
TZOFFSETFROM:-0600
TZOFFSETTO:-0500
TZNAME:CDT
DTSTART:20250309T080000
END:DAYLIGHT
BEGIN:STANDARD
TZOFFSETFROM:-0500
TZOFFSETTO:-0600
TZNAME:CST
DTSTART:20251102T070000
END:STANDARD
BEGIN:DAYLIGHT
TZOFFSETFROM:-0600
TZOFFSETTO:-0500
TZNAME:CDT
DTSTART:20260308T080000
END:DAYLIGHT
BEGIN:STANDARD
TZOFFSETFROM:-0500
TZOFFSETTO:-0600
TZNAME:CST
DTSTART:20261101T070000
END:STANDARD
BEGIN:DAYLIGHT
TZOFFSETFROM:-0600
TZOFFSETTO:-0500
TZNAME:CDT
DTSTART:20270314T080000
END:DAYLIGHT
BEGIN:STANDARD
TZOFFSETFROM:-0500
TZOFFSETTO:-0600
TZNAME:CST
DTSTART:20271107T070000
END:STANDARD
END:VTIMEZONE
BEGIN:VEVENT
DTSTART;TZID=America/Chicago:20260423T180000
DTEND;TZID=America/Chicago:20260423T190000
DTSTAMP:20260423T082653
CREATED:20231201T172711Z
LAST-MODIFIED:20231205T002055Z
UID:10000221-1776967200-1776970800@kansashonorflight.org
SUMMARY:Wichita Volunteer Meeting
DESCRIPTION:Extra parking across the street to the west. \nMeet fourth Thursday of each month. Meeting starts at 6:00 p.m.\nFood & refreshment service available for purchase starting at 4:30 PM. \nContact\nDavid Blanding\nchief@kansashonorflight.org\n316-213-1042
URL:https://kansashonorflight.org/event/wichita-volunteer-meeting/2026-04-23/
LOCATION:American Legion Post #4\, 816 N. Water\, Wichita\, KS\, United States
CATEGORIES:Wichita Volunteers
ATTACH;FMTTYPE=image/png:https://kansashonorflight.org/lmg-cms/wp-content/uploads/2023/12/Screenshot-76-e1701735587976.png
END:VEVENT
END:VCALENDAR